BEGIN:VCALENDAR
VERSION:2.0
PRODID:-//Magodu Charitable Trust - ECPv6.0.10//NONSGML v1.0//EN
CALSCALE:GREGORIAN
METHOD:PUBLISH
X-ORIGINAL-URL:https://magodu.org
X-WR-CALDESC:Events for Magodu Charitable Trust
REFRESH-INTERVAL;VALUE=DURATION:PT1H
X-Robots-Tag:noindex
X-PUBLISHED-TTL:PT1H
BEGIN:VTIMEZONE
TZID:UTC
BEGIN:STANDARD
TZOFFSETFROM:+0000
TZOFFSETTO:+0000
TZNAME:UTC
DTSTART:20180101T000000
END:STANDARD
END:VTIMEZONE
BEGIN:VEVENT
DTSTART;VALUE=DATE:20180922
DTEND;VALUE=DATE:20180923
DTSTAMP:20260424T211222
CREATED:20180630T110043Z
LAST-MODIFIED:20180630T132747Z
UID:3475-1537574400-1537660799@magodu.org
SUMMARY:Mid year stationary distribution
DESCRIPTION:We will be distributing stationary items to the student.
URL:https://magodu.org/event/mid-year-stationary-distribution/
LOCATION:MAGODU\, Sira Taluk\, Tumkur\, India
CATEGORIES:Education
END:VEVENT
END:VCALENDAR